Workbook
Name acceptable_use_policy: Disclaimer!#REF!
Name general_tc: Disclaimer!$A$61
Name privacy_policy: Disclaimer!$A$136

Sheet Disclaimer
A1: Disclaimer - Important notices
A4: (i) The Product Information displayed on this Site has been uploaded by the Issuers of the relevant Products. None of the information displayed on this Site shall form the basis of any contract. Any User of this Site will be required to acknowledge that it has not relied on, or been induced to enter into any contract by, any representation or warranty.
A5: (ii) The Covered Bond Label Foundation has not independently verified the Product Information displayed on this Site. Accordingly, no representation, warranty or undertaking, express or implied, is made, and no responsibility is accepted, by the Covered Bond Label Foundation as to or in relation to the accuracy or completeness or otherwise of such Product Information."
A6: (iii) The information provided on or accessible through the Site is not intended for distribution to, or use by, any person or entity in any jurisdiction where such distribution or use would be contrary to local law, or which would subject us or any Issuer, to any authorisation, registration or other requirement within such jurisdiction. You agree not to use or export the information or materials available on or through this Site in violation of laws in your jurisdiction.
A8: TERMS OF USE
A9: This website www.coveredbondlabel.com (the "Site") is owned and operated by the Covered Bond Label Foundation (the Covered Bond Label Foundation together with its affiliates, "we" or "us") a Private Foundation (fondation privée / private stichting) registered in Belgium; whose registered office is at Rue de la Science 14 - 1040 Brussels - Belgium and registered under number 500.950.659 (RPR/RPM Brussels).
A10: The Site is intended for use as a directory of information relating to certain covered bond products ("Products") (the "Product Information") by an issuer of ("Issuer"), or potential investor in ("Investor"), such Products (an Issuer, Investor, or any other person accessing this Site, each a "User" or "you"). The Product Information is provided by each relevant Issuer, and remains at all times the sole responsibility of the relevant Issuer. We have not independently verified any Product Information, nor reviewed whether any Product for which information is available on the Site actually is a covered bond product. This Site or any label made available through it does not constitute, nor contain, any form of credit rating, any offer to sell (or the solicitation of an offer to purchase) any Product, nor does it constitute a recommendation, or investment advice (or any other type of advice) upon which reliance should be placed.
A11: These terms and conditions together with the documents referred to in them set out the terms of use ("T&Cs") on which (a) an Issuer; (b) Investor; or (c) any other User, may make use of the Site. Section A applies primarily to Investors, and Section B applies primarily to Issuers. The General T&Cs in Section C apply to all Users.
A12: Our Acceptable Use Policy and Privacy Policy are incorporated into these T&Cs.
A13: Please read the T&Cs carefully before you start to use the Site. By clicking 'Accept' you indicate that you accept these T&Cs and that you agree to abide by them.
A14: If any provision of these T&Cs shall be deemed unlawful, void or for any reason unenforceable, then that provision shall be deemed severable from these terms and shall not affect the validity and enforceability of any remaining provisions.
A16: SECTION A. INVESTOR T&Cs
... A169: If you have any questions about this policy, the collection and use of your personal information or other privacy-specific concerns please contact us by clicking on Contact Us .

Sheet Introduction
F5: Harmonised Transparency Template
D6: 2026 Version
F7: Korea
F8: Korea Housing Finance Corporation
F9: Reporting Date: [15/09/26]
F10: Cut-off Date: [31/08/26]
F22: Index
D24: Worksheet A: HTT General | E24: Tab 1: Harmonised Transparency Template
D26: Worksheet B1: HTT Mortgage Assets
D28: Worksheet B2: HTT Public Sector Assets | E28: Tab 1: Harmonised Transparency Template
D30: Worksheet B3: HTT Shipping Assets | E30: Tab 1: Harmonised Transparency Template
D32: Worksheet C: HTT Harmonised Glossary | E32: Tab 1: Harmonised Transparency Template
D34: Covered Bond Label Disclaimer | E34: Tab 1: Harmonised Transparency Template
D36: Worksheet D & Onwards (If Any): National Transparency Template
D38: Worksheet E: Optional ECB-ECAIs data
D40: Worksheet F1: Sustainable M data | E40: Tab 1: Harmonised Transparency Template
D42: Worksheet G1. Crisis M Payment Holidays

Sheet Completion Instructions
F5: Completion Instructions
F7: Please delete this tab once you have completed this file
C9: 1. Every pool has one separate HTT. Issuers with more than one cover pool have to present as many separate HTTs as the number of pools.
C10: 2. All cells that include “[For completion]” and “[Mark as ND if not relevant]” needs to be completed
C11: 3. The "[For completion]" or "[Mark as ND if not relevant]" cells could be filled with:
D12: 3.A Numbers: Please insert the appropriate data
D13: 3.B Letters: Please insert either No Data (ND)
D14: (i) ND1: Please complete the cell with ND1 when the information is not applicable for the jurisdiction
D15: (ii) ND2: Please complete the cell with ND2 when the information is not relevant for the issuer and/or CB programme at the present time
D16: (iii) ND3: Please complete the cell with ND3 when the information is not available at the present time
D17: (iv) ND4: Please complete the cell with ND4 when the information is confidential
C18: 4. Please note that the percentage cells will be automatically completed by the spreadsheet.
C19: 5. The wording of the tabs referring to the HTT (the ones with an orange tab colour) are not to be changed.
C20: 6. Should you wish to insert your National Transparency Template worksheet(s) in the HTT, please follow our instructions in the box below.
D21: Please do not forget to change the name of the worksheet in order to be consistent with the numbering of the existing ones (starting with D.).
D22: Please update the Introduction Tab accordingly.
C23: 7. Please delete tab D (Insert National Transparency Template) and the example tabs if unused.
D24: Please update the introduction Tab accordingly.
C25: 8. Should you make references to external documents or cells in this document, please insert the hyperlink.
C26: 9. Since HTT 2018 various fields as well as the amount of rows and columns are blocked in order to guarantee the uniformity of the HTT architecture which enables to run automated reporting programs. In order to guarantee this uniformity the Secretariat will not provide 'unprotected' HTTs to the issuers
C28: 10. Since the loan bucket size of the loan size information (Tab. B1 HTT mortgage Assets - section 7.10 and 7.15, Tab. B2 HTT Public Sector Assets - section 8.2, Tab B3. HTT Shipping Assets - section 9.8) is decided at national level, please follow the agreed dispositions which can be found in the HTT Completion Guideline
C30: 11. Since the regional breakdown denomination (Tab. B1 HTT Mortgage Assets - section 7.5., Tab B2 HTT Public Sector Assets - section 8.5) is decided at national level, please follow the agreed dispositions which can be found in the HTT Completion Guideline
C32: 12. For your information Legal Entity Identifier (LEI) for counterparty information may be found in http://www.lei-lookup.com/#!search
C33: 13. For any further questions on how to complete the HTT please consult in the following order:
D34: (i) the HTT Completion Guideline
D35: (ii) the relevant National Coordinator
D36: (iii) the Covered Bond Label Secretariat
C47: How to import an excel worksheet
C49: 1. Click on the tab of the worksheet you want to import | G49: 3. Select the excel file where you want to transfer your worksheet from the dropdown menu
C50: 2. Select "Move or Copy" | G50: 4. In the box Before Sheet, please select "(move to end)"
C51: 3 | G51: 5. Do not forget to tick the "Create a copy" box and press ok
C75: Updates for HTT 2025
C76: Here below the list of updates of HTT 2025 with respect to HTT 2024 agreed during meeting of the Label Committee of 10 September 2024.
C78: 0. All worksheets: Update the year of the HTT template next to the title of each
C79: 1. Worksheet "FAQ": Addition of a new no data specification, ND4, indicating no data when the information is confidential
C80: 2. Worksheet "FAQ": Addition of explanation on the FIGI number
C81: 3. Worksheet “A. HTT General”: Section 1. Basic Fact: New row 19 containing the Cover Pool’s FIGI Identifier (non-mandatory)
C82: 4. Worksheet “A. HTT General”: Section 2 Regulatory Summary: Correction of jursdiction with jurisdiction
C83: 5. Worksheet “A. HTT General”: Section 3.6 addition of NZD among the possible currencies
C84: 6. Worksheet “A. HTT General”: Section 3.7 addition of NZD among the possible currencies
...

Sheet FAQ
A1: Frequently Asked Questions (FAQ)
A2: Please delete this tab once you have completed this file
C4: Harmonised Transparency Template - Frequently Asked Questions
A5: General Questions
A6: Question 1: What is the structure of the Harmonised Transparency Template (HTT)?
B7: Response 1 | C7: The HTT contains 5 main worksheets (A, B1, B2, B3 and C). The first worksheet (A) includes the HTT general information. The second worksheet (B1) presents the mortgage information. The third worksheet (B2) contains the public sector information. The fourth worksheet (B3) contains shipping information.The fifth worksheet (C) represents the HTT glossary, which has a harmonised section across jurisdictionsat the top, but also a section for national specificities below. Any additional tabs (D, E, etc.), will contain the National Transparency Template (NTT) information where relevant.
A8: Question 2: Is the HTT going to replace the National Transparency Template (NTT)?
B9: Response 2 | C9: The HTT is compulsory in order to be considered Covered Bond Label compliant. The NTT can be added in order to provide further information at national discretion.
A10: Question 3: What is the reporting frequency of the HTT?
B11: Response 3 | C11: The reporting of the HTT is the same as the reporting of the National Transparency Template (NTT), i.e. at least quarterly.
A12: Question 4: Where should the HTT be posted?
B13: Response 4 | C13: The HTT should be posted in the same location as the National Transparency Template (NTT) is currently posted, i.e. on the issuer's website. There is no common platform for the HTT.
A14: Question 5: In what format the HTT should be disclosed?
B15: Response 5 | C15: The HTT should be disclosed in Excel format in so far as it is possible, as already suggested by the Label Advisory Council and investors. Where issuers are currently providing the Template in both Excel and PDF formats, they are encouraged to continue to do so.
A16: Question 6: Where can I find the reporting date?
B17: Response 6 | C17: The reporting date can be found in the Introduction Tab and in the "Basic Facts" section of worksheet A.
A18: Question 7: What happens when I cannot complete a section of the HTT?
B19: Response 7 | C19: When the information is either (i) not applicable for the jurisdiction, (ii) not relevant for the issuer and/or CB programme at the present time; (iii) not available at the present time; or (iv) confidential. Issuers are kindly requested to include ND1, ND2, ND3 or ND4 respectively.
A20: Specific Questions
A21: Question 8: Does the Harmonised Transparency Template only contain disaggregated information for mortgages and public sector?
B22: Response 8 | C22: Indeed, the HTT only provides disaggregated information for mortgage and public sector assets which represent 99.6% of total outstanding. Information in more detail on other collateral types can always be included in worksheet E, which may contains the National Transparency Template (NTT).
A23: Question 9: How should the "liquid assets" be calculated in the section 3 "General Cover Pool / Covered Bond Information" of the HTT?
B24: Response 9 | C24: Liquid assets are defined as central bank eligible assets, substitute and other marketable assets. This total is calculated over both outstanding covered bonds and outstanding cover assets.
A25: Question 10: How should the "expected" and "contractual" columns of the "Cover pool amortisation profile" be understood?
B26: Response 10 | C26: Contractual maturities assume no prepayment scenario unlike expected maturities. Jurisdictions/issuers publishing the two should disclosed their prepayment assumptions for the latter.
A27: Question 11: How should the hedging columns included in section 3 "General Cover Pool / Covered Bond Information" of the HTT be understood?
B28: Response 11 | C28: The currency breakdown before/after hedging aims to assess the potential currency mismatch on the asset and liability sides. This is supplemented by explanations on the issuer's hedging strategy in the Harmonised Glossary.
A29: Question 12: How should the cover assets and covered bonds distribution by currency be populated in section 3.6 and 3.7 in Tab A. HTT General?
B30: Response 12 | C30: In the columns titled "Nominal [before hedging]" and "Nominal [after hedging]" if there is no hedging activity also the amounts for the single currencies should be the same in the two columns. Should there be hedging activity then the currency into which the outstanding has been swapped will receive the respective amount. For example, if all outstanding have been swapped into one currency, only this currency will see a positive amount in the after hedging section. The sum of the columns must match the figures reported under "Total Cover Assets", respectively "Outstanding Covered Bonds" in Section 3.1 of Tab A. HTT General.
A31: Question 13: How should the covered bonds distribution by interest rate be populated in section 3.8 in Tab A. HTT General?
B32: Response 13 | C32: In the columns titled "Nominal [after hedging]", all amounts must be inserted in the line for the interest rate type they have been swapped into. For example, if all outstanding amounts have been swapped into floating rate, only this line should be filled. Total amounts should show the same figures both before and after hedging.
A33: Question 14: How should arrears be populated in Tab E. Optional ECB-ECAIs data?
B34: Response 14 | C34: Performing loans should be excluded from the "1-<30 days" bucket. If a loan is in arrears, please report the entire principal amount for the loan, not just the instalment that is in arrears.
A35: Question 15: What is the Cover Pools' FIGI identifier and where can I find it?
B36: Response 15 | C36: FIGI is a 12-character alphanumeric ID used to differentiate and map information associated to cover pools. Each pool has a unique FIGI ID which cannot be re-used. You can search for existing FIGI ID's for cover pools on the Bloomberg Terminal or on the openfigi.com webpage. Bloomberg is a certified provider and will facilitate to request a FIGI ID for new pools. Requests can be send with relevant documentation via email to emeacapmkts@bloomberg.net. We would like to underline that the inclusion of the FIGI number in your HTT is on a voluntary basis.

Sheet A. HTT General
A1: A. Harmonised Transparency Template - General Information | F1: HTT 2026
B3: Reporting in Domestic Currency | C3: KRW
B5: CONTENT OF TAB A
B6: 1. Basic Facts
B7: 2. Regulatory Summary
B8: 3. General Cover Pool / Covered Bond Information | F8: `
B9: 4. Compliance Art 14 CBD Check Table
B10: 5. References to Capital Requirements Regulation (CRR) 129(1)
B11: 6. Other relevant information
A13: Field Number | B13: 1. Basic Facts
A14: G.1.1.1 | B14: Country | C14: Korea
A15: G.1.1.2 | B15: Issuer Name | C15: Korea Housing Finance Corporation
A16: G.1.1.3 | B16: Labelled Cover Pool Name | C16: KHFC USD 15 billion Global Covered Bond Programme
A17: G.1.1.4 | B17: Link to Issuer's Website | C17: https://kmbs.hf.go.kr/biz/home/home.do
A18: G.1.1.5 | B18: Cut-off date | C18: [31/08/26]
A19: G.1.1.6 | B19: Cover Pool's FIGI Identifier (non-mandatory) | C19: ND1
A20: OG.1.1.2 | B20: Optional information e.g. Contact names
A21: OG.1.1.3 | B21: Optional information e.g. Parent name
A22: OG.1.1.4
A23: OG.1.1.5
A24: OG.1.1.6
A25: OG.1.1.7
B26: 2. Regulatory Summary
A27: G.2.1.1 | B27: Basel Compliance, subject to national jurisdiction (Y/N) | C27: Y
A28: G.2.1.2 | B28: CBD Compliance | C28: Non-EEA, Art 14 CBD compliant | M28: Y
A29: G.2.1.3 | B29: CRR Compliance (Y/N) | C29: N | M29: N
A30: OG.2.1.1 | B30: LCR status | C30: https://www.coveredbondlabel.com/issuer/156-korea-housing-finance-corporation | M30: Non-EEA, Art 14 CBD compliant
A31: OG.2.1.2
A32: OG.2.1.3
A33: OG.2.1.4
A34: OG.2.1.5
A35: OG.2.1.6
B36: 3. General Cover Pool / Covered Bond Information
B37: 1.General Information | C37: Nominal (mn)
A38: G.3.1.1 | B38: Total Cover Assets | C38: 13189940
A39: G.3.1.2 | B39: Outstanding Covered Bonds | C39: 10665465
A40: OG.3.1.1 | B40: Cover Pool Size [NPV] (mn) | C40: ND1
A41: OG.3.1.2 | B41: Outstanding Covered Bonds [NPV] (mn) | C41: ND1
A42: OG.3.1.3
A43: OG.3.1.4
...

Sheet B1. HTT Mortgage Assets
A1: B1. Harmonised Transparency Template - Mortgage Assets | F1: HTT 2026
B3: Reporting in Domestic Currency | C3: KRW
B5: CONTENT OF TAB B1
B6: 7. Mortgage Assets
B7: 7.A Residential Cover Pool
B8: 7.B Commercial Cover Pool
A10: Field Number | B10: 7. Mortgage Assets
B11: 1. Property Type Information | C11: Nominal (mn) | F11: % Total Mortgages
A12: M.7.1.1 | B12: Residential | C12: 13189940 | F12: 1
A13: M.7.1.2 | B13: Commercial | C13: 0 | F13: 0
A14: M.7.1.3 | B14: Other | C14: 0 | F14: 0
A15: M.7.1.4 | B15: Total | C15: 13189940 | F15: 1
A16: OM.7.1.1 | B16: o/w Housing Cooperatives / Multi-family assets | F16: 0
A17: OM.7.1.2 | B17: o/w Forest & Agriculture | F17: 0
A18: OM.7.1.3 | B18: o/w [If relevant, please specify] | F18: 0
A19: OM.7.1.4 | B19: o/w [If relevant, please specify] | F19: 0
A20: OM.7.1.5 | B20: o/w [If relevant, please specify] | F20: 0
A21: OM.7.1.6 | B21: o/w [If relevant, please specify] | F21: 0
A22: OM.7.1.7 | B22: o/w [If relevant, please specify] | F22: 0
A23: OM.7.1.8 | B23: o/w [If relevant, please specify] | F23: 0
A24: OM.7.1.9 | B24: o/w [If relevant, please specify] | F24: 0
A25: OM.7.1.10 | B25: o/w [If relevant, please specify] | F25: 0
A26: OM.7.1.11 | B26: o/w [If relevant, please specify] | F26: 0
B27: 2. General Information | C27: Residential Loans | D27: Commercial Loans | F27: Total Mortgages
A28: M.7.2.1 | B28: Number of mortgage loans | C28: 93035 | D28: 0 | F28: 93035
A29: OM.7.2.1 | B29: Optional information eg, Number of borrowers
A30: OM.7.2.2 | B30: Optional information eg, Number of guarantors
A31: OM.7.2.3
A32: OM.7.2.4
A33: OM.7.2.5
A34: OM.7.2.6
B35: 3. Concentration Risks | C35: % Residential Loans | D35: % Commercial Loans | F35: % Total Mortgages
A36: M.7.3.1 | B36: 10 largest exposures | C36: 0.00037759754 | D36: 0 | F36: 0.00037759754
A37: OM.7.3.1
A38: OM.7.3.2
A39: OM.7.3.3
A40: OM.7.3.4
A41: OM.7.3.5
A42: OM.7.3.6
B43: 4. Breakdown by Geography | C43: % Residential Loans | D43: % Commercial Loans | F43: % Total Mortgages
...

Sheet B2. HTT Public Sector Assets
A1: B2. Harmonised Transparency Template - Public Sector Assets | F1: HTT 2025
B3: Reporting in Domestic Currency | C3: [Please insert currency]
B5: CONTENT OF TAB B2
B6: 8. Public Sector Assets
A8: Field Number | B8: 8. Public Sector Assets
B9: 1. General Information
A10: PS.8.1.1 | B10: Number of public sector exposures | C10: [For completion]
A11: OPS.8.1.1 | B11: Optional information eg, Number of borrowers
A12: OPS.8.1.2 | B12: Optional information eg, Number of guarantors
A13: OPS.8.1.3
A14: OPS.8.1.4
A15: OPS.8.1.5
A16: OPS.8.1.6
A17: OPS.8.1.7
B18: 2. Size Information | C18: Nominal | D18: Number of Exposures | F18: % Public Sector Assets | G18: % No. of Exposures
A19: PS.8.2.1 | B19: Average exposure size (000s) | C19: [For completion]
B21: By buckets (mn):
A22: PS.8.2.2 | B22: TBC at a country level | C22: [For completion] | D22: [For completion] | F22: =IF($C$37=0,"",IF(C22="[for completion]","",C22/$C$37)) | G22: =IF($D$37=0,"",IF(D22="[for completion]","",D22/$D$37))
A23: PS.8.2.3 | B23: TBC at a country level | C23: [For completion] | D23: [For completion] | F23: =IF($C$37=0,"",IF(C23="[for completion]","",C23/$C$37)) | G23: =IF($D$37=0,"",IF(D23="[for completion]","",D23/$D$37))
A24: PS.8.2.4 | B24: TBC at a country level | C24: [For completion] | D24: [For completion] | F24: =IF($C$37=0,"",IF(C24="[for completion]","",C24/$C$37)) | G24: =IF($D$37=0,"",IF(D24="[for completion]","",D24/$D$37))
A25: PS.8.2.5 | B25: TBC at a country level | C25: [For completion] | D25: [For completion] | F25: =IF($C$37=0,"",IF(C25="[for completion]","",C25/$C$37)) | G25: =IF($D$37=0,"",IF(D25="[for completion]","",D25/$D$37))
A26: PS.8.2.6 | B26: TBC at a country level | C26: [For completion] | D26: [For completion] | F26: =IF($C$37=0,"",IF(C26="[for completion]","",C26/$C$37)) | G26: =IF($D$37=0,"",IF(D26="[for completion]","",D26/$D$37))
A27: PS.8.2.7 | B27: TBC at a country level | C27: [For completion] | D27: [For completion] | F27: =IF($C$37=0,"",IF(C27="[for completion]","",C27/$C$37)) | G27: =IF($D$37=0,"",IF(D27="[for completion]","",D27/$D$37))
A28: PS.8.2.8 | B28: TBC at a country level | C28: [For completion] | D28: [For completion] | F28: =IF($C$37=0,"",IF(C28="[for completion]","",C28/$C$37)) | G28: =IF($D$37=0,"",IF(D28="[for completion]","",D28/$D$37))
A29: PS.8.2.9 | B29: TBC at a country level | C29: [For completion] | D29: [For completion] | F29: =IF($C$37=0,"",IF(C29="[for completion]","",C29/$C$37)) | G29: =IF($D$37=0,"",IF(D29="[for completion]","",D29/$D$37))
A30: PS.8.2.10 | B30: TBC at a country level | C30: [For completion] | D30: [For completion] | F30: =IF($C$37=0,"",IF(C30="[for completion]","",C30/$C$37)) | G30: =IF($D$37=0,"",IF(D30="[for completion]","",D30/$D$37))
A31: PS.8.2.11 | B31: TBC at a country level | C31: [For completion] | D31: [For completion] | F31: =IF($C$37=0,"",IF(C31="[for completion]","",C31/$C$37)) | G31: =IF($D$37=0,"",IF(D31="[for completion]","",D31/$D$37))
A32: PS.8.2.12 | B32: TBC at a country level | C32: [For completion] | D32: [For completion] | F32: =IF($C$37=0,"",IF(C32="[for completion]","",C32/$C$37)) | G32: =IF($D$37=0,"",IF(D32="[for completion]","",D32/$D$37))
A33: PS.8.2.13 | B33: TBC at a country level | C33: [For completion] | D33: [For completion] | F33: =IF($C$37=0,"",IF(C33="[for completion]","",C33/$C$37)) | G33: =IF($D$37=0,"",IF(D33="[for completion]","",D33/$D$37))
... A36: PS.8.2.16 | B36: TBC at a country level | C36: [For completion] | D36: [For completion] | F36: =IF($C$37=0,"",IF(C36="[for completion]","",C36/$C$37)) | G36: =IF($D$37=0,"",IF(D36="[for completion]","",D36/$D$37))
A37: PS.8.2.17 | B37: Total | C37: =SUM(C22:C36) -> 0 | D37: =SUM(D22:D36) -> 0 | F37: =SUM(F22:F36) -> 0 | G37: =SUM(G22:G36) -> 0
B38: 3. Breakdown by Asset Type | C38: Nominal (mn) | F38: % Public Sector Assets
A39: PS.8.3.1 | B39: Loans | C39: [For completion] | F39: =IF($C$42=0,"",IF(C39="[for completion]","",C39/$C$42))
A40: PS.8.3.2 | B40: Bonds | C40: [For completion] | F40: =IF($C$42=0,"",IF(C40="[for completion]","",C40/$C$42))
A41: PS.8.3.3 | B41: Other | C41: [For completion] | F41: =IF($C$42=0,"",IF(C41="[for completion]","",C41/$C$42))
A42: PS.8.3.4 | B42: Total | C42: =SUM(C39:C41) -> 0 | F42: =SUM(F39:F41) -> 0
A43: OPS.8.3.1
A44: OPS.8.3.2
A45: OPS.8.3.3
A46: OPS.8.3.4
...

Sheet B3. HTT Shipping Assets
A1: B3. Harmonised Transparency Template - Shipping Assets | F1: HTT 2025
B3: Reporting in Domestic Currency | C3: [Please insert currency]
B5: CONTENT OF TAB B3
B6: 9. Shipping Assets
A8: Field Number | B8: 9. Shipping Assets
B9: 1. General Information | C9: Shipping Loans
A10: S.9.1.1 | B10: Number of shipping loans | C10: [For completion]
A11: OS.9.1.1 | B11: Optional information eg, Number of borrowers
A12: OS.9.1.2 | B12: Optional information eg, Number of guarantors
A13: OS.9.1.3
A14: OS.9.1.4
A15: OS.9.1.5
A16: OS.9.1.6
B17: 2. Concentration Risks | C17: % Shipping Loans
A18: S.9.2.1 | B18: 10 largest exposures | C18: [For completion]
A19: OS.9.2.1
A20: OS.9.2.2
A21: OS.9.2.3
A22: OS.9.2.4
A23: OS.9.2.5
A24: OS.9.2.6
B25: 3. Breakdown by Geography / Country of Registration | C25: % Shipping Loans
A26: S.9.3.1 | B26: European Union | C26: =SUM(C27:C53) -> 0
A27: S.9.3.2 | B27: Austria | C27: [For completion]
A28: S.9.3.3 | B28: Belgium | C28: [For completion]
A29: S.9.3.4 | B29: Bulgaria | C29: [For completion]
A30: S.9.3.5 | B30: Croatia | C30: [For completion]
A31: S.9.3.6 | B31: Cyprus | C31: [For completion]
A32: S.9.3.7 | B32: Czechia | C32: [For completion]
A33: S.9.3.8 | B33: Denmark | C33: [For completion]
A34: S.9.3.9 | B34: Estonia | C34: [For completion]
A35: S.9.3.10 | B35: Finland | C35: [For completion]
A36: S.9.3.11 | B36: France | C36: [For completion]
A37: S.9.3.12 | B37: Germany | C37: [For completion]
A38: S.9.3.13 | B38: Greece | C38: [For completion]
... A53: S.9.3.28 | B53: Sweden | C53: [For completion]
A54: S.9.3.29 | B54: European Economic Area (not member of EU) | C54: =SUM(C55:C57) -> 0
A55: S.9.3.30 | B55: Iceland | C55: [For completion]
A56: S.9.3.31 | B56: Liechtenstein | C56: [For completion]
A57: S.9.3.32 | B57: Norway | C57: [For completion]
...

Sheet C. HTT Harmonised Glossary
A1: C. Harmonised Transparency Template - Glossary | C1: HTT 2026
A3: The definitions below reflect the national specificities
A5: Field Number | B5: 1. Glossary - Standard Harmonised Items | C5: Definition
A6: HG.1.1 | B6: OC Calculation: Statutory | C6: Statutory Overcollateralisation is the overcollateralisation percentage required to be provided by each Issuer and included/disclosed in the national covered bond framework.
A7: HG.1.2 | B7: OC Calculation: Contractual | C7: Contractual Overcollateralisation is the overcollateralisation percentage each Issuer has contractually agreed to maintain pursuant to the covered bond programme documents.
A8: HG.1.3 | B8: OC Calculation: Voluntary | C8: Voluntary Overcollateralisation is the difference (if positive) between the actual overcollateralisation provided by an Issuer and the higher of the contractual and statutory overcollateralisation.
A9: HG.1.4 | B9: Interest Rate Types | C9: Fixed: Mortgage Loans which are fixed rate until maturity of the loan or re-fixed every 5 years Floating: None"
A10: HG.1.5 | B10: Residual Life Buckets of Cover assets [i.e. how is the contractual and/or expected residual life defined? What assumptions eg, in terms of prepayments? etc.] | C10: Maturity of cover pool determined as follows: Cash: No prescribed maturity (reflected under the 0-1Y bucket) Eligible investments: As per maturity date of the underlying instruments that are required to mature prior to the next interest payment date Residential mortgage loans: Maturity date of loan as per contract with borrower, with no prepayment assumed"
A11: HG.1.6 | B11: Maturity Buckets of Covered Bonds [i.e. how is the contractual and/or expected maturity defined? What maturity structure (hard bullet, soft bullet, conditional pass through)? Under what conditions/circumstances? Etc.] | C11: The applicable Pricing Supplement will indicate the scheduled maturity date and maturity structure of the Covered Bonds
A12: HG.1.7 | B12: Maturity Extention Triggers | C12: Maturity extension does not apply given KHFC's Covered bonds are issued in hard bullet format
A13: HG.1.8 | B13: LTVs: Definition | C13: Refer to OHG.4.1 and OHG.4.2
A14: HG.1.9 | B14: LTVs: Calculation of property/shipping value | C14: Refer to OHG.4.1 and OHG.4.2
A15: HG.1.10 | B15: LTVs: Applied property/shipping valuation techniques, including whether use of index, Automated Valuation Model (AVM) or on-site audits | C15: Refer to OHG.4.1 and OHG.4.2
A16: HG.1.11 | B16: LTVs: Frequency and time of last valuation | C16: Refer to OHG.4.1 and OHG.4.2
... A21: OHG.1.1 | B21: NPV assumptions (when stated) | C21: ND1
A22: OHG.1.2
A23: OHG.1.3
A24: OHG.1.4
A25: OHG.1.5
A26: OHG.1.6
A27: OHG.1.7
B28: 2. Glossary - ESG items (optional) | C28: Definition
A29: HG.2.1 | B29: Sustainability - strategy pursued in the cover pool | C29: [For completion]
A30: HG.2.2 | B30: Subsidised Housing (definitions of affordable, social housing) | C30: [For completion]
A31: HG.2.3 | B31: New Property and Existing Property | C31: [For completion]
A32: OHG.2.1 | B32: Indication of proxy usage for ESG-related data (indicator, methodology, timing, share of proxy usage for single indicators etc.) | C32: [For completion]
A33: OHG.2.2
A34: OHG.2.3
A35: OHG.2.4
A36: OHG.2.5
A37: OHG.2.6
A38: OHG.2.7
A39: OHG.2.8
A40: OHG.2.9
A41: OHG.2.10
A42: OHG.2.11
A43: OHG.2.12
B44: 3. Reason for No Data | C44: Value
A45: HG.3.1 | B45: Not applicable for the jurisdiction | C45: ND1
A46: HG.3.2 | B46: Not relevant for the issuer and/or CB programme at the present time | C46: ND2
...

Sheet E. Optional ECB-ECAIs data

Sheet D. Insert Nat Trans Templ
B3: Korea Housing Finance Corporation
B4: U.S.$15,000,000,000 Global Covered Bond Programme - Investor Report
B7: Calculation Period: | O7: 1 August 2026 to 31 August 2026
B8: Calculation Date: | O8: 46265
B9: Date of Report: | O9: 46280
B11: Ratings Overview | N11: Moody's | O11: S&P
B12: Korea Housing Finance Corporation Long Term Foreign Currency Issuer Rating | N12: Aa2 | O12: AA
B13: Korea Housing Finance Corporation Short Term Foreign Currency Issuer Rating | N13: P-1 | O13: A-1+
B14: Covered Bond Rating | N14: Aaa | O14: AAA
B16: Compliance Tests and Triggers
B17: Asset Coverage Test | O17: PASS
B19: Issuer Event of Default | O19: NO
B21: Covered Bond Event of Default | O21: NO
B23: Amortisation Test (if applicable) | O23: N/A
B26: Pre-Maturity Test (applicable to Hard Bullet Covered Bonds Only) | L26: Moody's | M26: S&P | O26: NO
C27: Minimum Rating Triggers | L27: P-1 | M27: A-1
B29: Negative Carry Factor | L29: Moody's | M29: S&P | O29: NO
C30: Minimum Rating Triggers | L30: A3 | M30: A
B33: Asset Coverage Test
C35: Calculation of Adjusted Aggregate Loan Amount
B37: A | C37: The product of:
C39: (i) the Asset Percentage; and | O39: 0.94339623
C40: (ii) aggregate "Arrears Adjusted Current Balance" of the Mortgage Loans in the Cover Pool as at such Calculation Date, which shall be the lower of (a) the actual current balance of each Mortgage Loan in the Cover Pool at the end of the related Calculation Period multiplied by N, and (b) the Indexed Valuation relating to that Mortgage Loan multiplied by 70 per cent. | O40: 1.3167973e+13
C44: minus
C46: deemed reductions to the aggregate Arrear Adjusted Current Balance | O46: 0
B48: B | C48: the aggregate amount of any Principal Collections on the Mortgage Loans in the Collection Account and recorded on the ledger in respect of the Principal Collections at the end of the related Calculation Period | O48: 0
B51: C | C51: The sum of
C53: (i) the aggregate value outstanding under all Eligible Investments; and | O53: 0
C54: (ii) the Pre-Maturity Liquidity Assets Value as at such Calculation Date | O54: 0
B56: Z | C56: The Negative Carry Factor multiplied by the aggregate of B, C and the Arrears Adjusted Current Balance | O56: 0
C59: Adjusted Aggregate Loan Amount
C61: A + B + C − Z | O61: 1.2422616e+13
C64: Asset Coverage Test
C66: Adjusted Aggregate Loan Amount: | O66: 1.2422616e+13
C68: KRW Equivalent of the aggregate outstanding principal amount of all Covered Bonds: | O68: 10665465000000
C70: Asset Coverage Test is Satisfied? | O70: Yes
C73: Asset Percentage
C75: Asset Percentage from Moody's: | O75: 0.94339623
C76: Asset Percentage from S&P: | O76: 0.97121302
C77: Contractual Asset Percentage: | O77: 0.94339623
...

Sheet E. CB Details & Parties
B3: Korea Housing Finance Corporation
B4: U.S.$15,000,000,000 Global Covered Bond Programme - Investor Report
B6: Transaction Parties
B7: Bond Trustee | O7: Citicorp International Limited
B8: Issuing and Paying Agent | O8: Citibank, N.A., London Branch
B9: Collection Account Bank | O9: KEB Hana Bank
B10: Reserve Account Bank | O10: KEB Hana Bank
B11: Asset Monitor | O11: Nexia Samduk
B12: Swap Providers | O12: As appointed under a Swap Agreement by the Issuer for a specific Series of Covered Bonds
B14: Covered Bond Issuance Detail
B15: Issue Date | C15: Currency | D15: Issue Size | E15: Rate Type | F15: Coupon Rate | G15: Maturity Structure | I15: Maturity Date | J15: Extended Maturity Date | L15: ISIN Code (Reg S) | N15: ISIN Code (144A)
B16: 44761 | C16: EUR | D16: 500000000 | E16: Fixed | F16: 0.01963 | G16: Hard Bullet (with PMT) | I16: 46222 | J16: N/A | L16: XS2502879096 | N16: XS2502844116
B17: 44848 | C17: CHF | D17: 140000000 | E17: Fixed | F17: 0.02465 | G17: Hard Bullet (with PMT) | I17: 46674 | J17: N/A | L17: CH1216400064 | N17: -
B18: 44967 | C18: CHF | D18: 100000000 | E18: Fixed | F18: 0.01893 | G18: Hard Bullet (with PMT) | I18: 46793 | J18: N/A | L18: CH1243933582 | N18: -
B19: 45022 | C19: AUD | D19: 200000000 | E19: Fixed | F19: 0.04475 | G19: Hard Bullet (with PMT) | I19: 46118 | J19: N/A | L19: AU3CB0298396 | N19: -
B20: 45022 | C20: AUD | D20: 120000000 | E20: Floating | F20: BBSW 3M+ 1.05% | G20: Hard Bullet (with PMT) | I20: 46118 | J20: N/A | L20: AU3FN0077020 | N20: -
B21: 45027 | C21: EUR | D21: 500000000 | E21: Fixed | F21: 0.03714 | G21: Hard Bullet (with PMT) | I21: 46488 | J21: N/A | L21: XS2545732484 | N21: XS2545731759
B22: 45099 | C22: USD | D22: 100000000 | E22: Fixed | F22: 0.05222 | G22: Hard Bullet (with PMT) | I22: 46193 | J22: N/A | L22: XS2638999461 | N22: -
B23: 45133 | C23: EUR | D23: 150000000 | E23: Fixed | F23: 0.03714 | G23: Hard Bullet (with PMT) | I23: 46488 | J23: N/A | L23: XS2545732484 | N23: -
B24: 45135 | C24: USD | D24: 100000000 | E24: Floating | F24: Daily Compounding SOFR + 1.00% | G24: Hard Bullet (with PMT) | I24: 46962 | J24: N/A | L24: XS2660275327 | N24: -
B25: 45146 | C25: USD | D25: 210000000 | E25: Fixed | F25: 0.05327 | G25: Hard Bullet (with PMT) | I25: 46203 | J25: N/A | L25: HK0000946449 | N25: -
B26: 45194 | C26: EUR | D26: 1000000000 | E26: Fixed | F26: 0.04082 | G26: Hard Bullet (with PMT) | I26: 46655 | J26: N/A | L26: XS2678945317 | N26: -
B27: 45267 | C27: EUR | D27: 100000000 | E27: Fixed | F27: 0.04082 | G27: Hard Bullet (with PMT) | I27: 46655 | J27: N/A | L27: XS2678945317 | N27: -
B28: 45323 | C28: CHF | D28: 200000000 | E28: Fixed | F28: 0.01778 | G28: Hard Bullet (with PMT) | I28: 46419 | J28: N/A | L28: CH1314941407 | N28: -
B29: 45323 | C29: CHF | D29: 150000000 | E29: Fixed | F29: 0.01845 | G29: Hard Bullet (with PMT) | I29: 47515 | J29: N/A | L29: CH1314941415 | N29: -
B30: 45369 | C30: EUR | D30: 500000000 | E30: Fixed | F30: 0.03124 | G30: Hard Bullet (with PMT) | I30: 47195 | J30: N/A | L30: XS2779847842 | N30: -
B31: 45567 | C31: EUR | D31: 650000000 | E31: Fixed | F31: 0.027331 | G31: Hard Bullet (with PMT) | I31: 46936 | J31: N/A | L31: XS2900380226 | N31: -
B32: 45625 | C32: HKD | D32: 1500000000 | E32: Floating | F32: 3M Hibor + 0.349% | G32: Hard Bullet (with PMT) | I32: 46324 | J32: N/A | L32: HK0001085437 | N32: -
B33: 45721 | C33: EUR | D33: 600000000 | E33: FIxed | F33: 0.02742 | G33: Hard Bullet (with PMT) | I33: 47547 | J33: N/A | L33: XS2994527351 | N33: -
B34: 45805 | C34: USD | D34: 400000000 | E34: Floating | F34: Daily Compounding SOFR + 0.80% | G34: Hard Bullet (with PMT) | I34: 47631 | J34: N/A | L34: XS3059440928 | N34: -
B35: 45902 | C35: EUR | D35: 500000000 | E35: Fixed | F35: 0.02765 | G35: Hard Bullet (with PMT) | I35: 47728 | J35: N/A | L35: XS3149806971 | N35: -
B36: 45944 | C36: GBP | D36: 300000000 | E36: Floating | F36: Daily Compounding SONIA + 0.60% | G36: Hard Bullet (with PMT) | I36: 47040 | J36: N/A | L36: XS3188749488 | N36: -
B37: 46085 | C37: EUR | D37: 800000000 | E37: Fixed | F37: 0.02696 | G37: Hard Bullet (with PMT) | I37: 11386 | J37: N/A | L37: XS3284973107
B38: 46190 | C38: GBP | D38: 500000000 | E38: Fixed | F38: Daily Compounding SONIA + 0.51% | G38: Hard Bullet (with PMT) | I38: 10761 | J38: N/A | L38: XS3397060693

Sheet F1. Sustainable M data
A1: F1. Harmonised Transparency Template - Sustainable Mortgage Data | F1: HTT 2025
B3: Reporting in Domestic Currency | C3: KRW
B5: CONTENT OF TAB F1
B6: 1. Share of sustainable loans in the total mortgage program
B7: 2. Additional information on the sustainable section of the mortgage stock
B8: 2A. Sustainable Residential Cover Pool
B9: 2B. Sustainable Commercial Cover Pool
B13: 1. Share of sustainable loans in the total mortgage program
B14: 1. Amount of sustainable loans | C14: Nominal (mn) | D14: Number of loans | F14: % Nominal (mn) to total mortgage program | G14: % No. of Loans to total mortgage program
A15: SM.1.1.1 | B15: EE mortgage loans | C15: 0 | D15: 0 | F15: 0 | G15: 0
A16: SM.1.1.2 | B16: Social impact mortgage loans | C16: 8530902.6 | D16: 52522 | F16: 0.64677343 | G16: 0.56454023
A17: SM.1.1.3 | B17: other | C17: 0 | D17: 0 | F17: 0 | G17: 0
A18: SM.1.1.4 | B18: Total sustainable mortgage loans | C18: 8530902.6 | D18: 52522 | F18: 0.64677343 | G18: 0.56454023
A19: OSM.1.1.1 | B19: o/w [If relevant, please specify]
A20: OSM.1.1.2 | B20: o/w [If relevant, please specify]
A21: OSM.1.1.3 | B21: o/w [If relevant, please specify]
A22: OSM.1.1.4 | B22: o/w [If relevant, please specify]
A23: OSM.1.1.5 | B23: o/w [If relevant, please specify]
B24: 2. Additional information on the sustainable section of the mortgage stock
B25: 1. Sustainable Property Type Information | C25: Nominal (mn) | F25: % Total sustainable Mortgages
A26: SM.2.1.1 | B26: Residential | C26: 8530902.6 | F26: 1
A27: SM.2.1.2 | B27: Commercial | C27: 0 | F27: 0
A28: SM.2.1.3 | B28: Other | C28: 0 | F28: 0
A29: SM.2.1.4 | B29: Total | C29: 8530902.6 | F29: 1
A30: OSM.2.1.1 | B30: o/w Forest & Agriculture | F30: 0
A31: OSM.2.1.2 | B31: o/w EE residential | F31: 0
A32: OSM.2.1.3 | B32: o/w EE commercial | F32: 0
A33: OSM.2.1.4 | B33: o/w EE other | F33: 0
A34: OSM.2.1.5 | B34: EE total | F34: 0
A35: OSM.2.1.6 | B35: o/w Social residential | F35: 0
A36: OSM.2.1.7 | B36: o/wSocial Commercial | F36: 0
A37: OSM.2.1.8 | B37: o/w social other | F37: 0
A38: OSM.2.1.9 | B38: social tot | F38: 0
A39: OSM.2.1.10 | B39: o/w Renewable Energy and Renewable Energy Transmission
A40: OSM.2.1.11 | B40: o/w [If relevant, please specify]
A41: OSM.2.1.12 | B41: o/w [If relevant, please specify]
A42: OSM.2.1.13 | B42: o/w [If relevant, please specify]
A43: OSM.2.1.14 | B43: o/w [If relevant, please specify]
A44: OSM.2.1.15 | B44: o/w [If relevant, please specify]
A45: OSM.2.1.16 | B45: o/w [If relevant, please specify]
...

Sheet F2. Sustainable PS data
A1: F2. Harmonised Transparency Template - Sustainable Public Sector Assets | F1: HTT 2025
B3: Reporting in Domestic Currency | C3: [Please insert currency]
B5: CONTENT OF TAB F2
B6: 1. Share of sustainable Public Sector Assets
B7: 2. Sustainable Public Sector Assets
B9: 1. Share of sustainable public sector assets in the total cover pool program
B10: 1. Amount of sustainable loans | C10: Nominal (mn) | D10: Number of loans | F10: % Nominal (mn) to total Public Sector program | G10: % No. of Loans to total Public Sector program
A11: SPS.1.1.1 | B11: Green Public Sector exposures | C11: [For completion] | D11: [For completion] | F11: =IF(OR('B2. HTT Public Sector Assets'!$C$37=0,C11="[For completion]"),"",C11/'B2. HTT Public Sector Assets'!$C$37) | G11: =IF(OR('B2. HTT Public Sector Assets'!$C$10=0,D11="[For completion]"),"",D11/'B2. HTT Public Sector Assets'!$C$10)
A12: SPS.1.1.2 | B12: o/w Local Communities | C12: [For completion] | D12: [For completion]
A13: SPS.1.1.3 | B13: o/w Hospitals | C13: [For completion] | D13: [For completion]
A14: SPS.1.1.4 | B14: o/w Export Credit | C14: [For completion] | D14: [For completion]
B15: o/w other | C15: [For completion] | D15: [For completion]
A16: SPS.1.1.5 | B16: Social Public Sector exposures | C16: [For completion] | D16: [For completion] | F16: =IF(OR('B2. HTT Public Sector Assets'!$C$37=0,C16="[For completion]"),"",C16/'B2. HTT Public Sector Assets'!$C$37) | G16: =IF(OR('B2. HTT Public Sector Assets'!$C$10=0,D16="[For completion]"),"",D16/'B2. HTT Public Sector Assets'!$C$10)
A17: SPS.1.1.6 | B17: o/w Local Communities | C17: [For completion] | D17: [For completion]
A18: SPS.1.1.7 | B18: o/w Hospitals | C18: [For completion] | D18: [For completion]
A19: SPS.1.1.8 | B19: o/w Export Credit | C19: [For completion] | D19: [For completion]
B20: o/w other | C20: [For completion] | D20: [For completion]
A21: SPS.1.1.9 | B21: other | C21: [For completion] | D21: [For completion] | F21: =IF(OR('B2. HTT Public Sector Assets'!$C$37=0,C21="[For completion]"),"",C21/'B2. HTT Public Sector Assets'!$C$37) | G21: =IF(OR('B2. HTT Public Sector Assets'!$C$10=0,D21="[For completion]"),"",D21/'B2. HTT Public Sector Assets'!$C$10)
A22: SPS.1.1.10 | B22: Total sustainable Public Sector exposures | C22: =SUM(C11,C16,C21) -> 0 | D22: =SUM(D11,D16,D21) -> 0 | F22: =SUM(F11:F21) -> 0 | G22: =SUM(G11:G21) -> 0
A23: OSPS.1.1.1 | B23: o/w [If relevant, please specify]
A24: OSPS.1.1.2 | B24: o/w [If relevant, please specify]
A25: OSPS.1.1.3 | B25: o/w [If relevant, please specify]
A26: OSPS.1.1.4 | B26: o/w [If relevant, please specify]
A27: OSPS.1.1.5 | B27: o/w [If relevant, please specify]
B30: 2. Type of use of sustainable loans | C30: Nominal (mn) | D30: Number of loans | F30: % Nominal (mn) to total Public Sector program | G30: % No. of Loans to total Public Sector program
A31: SPS.1.2.1 | B31: Renewable energy | C31: [For completion] | D31: [For completion] | F31: =IF(OR('B2. HTT Public Sector Assets'!$C$37=0,C31="[For completion]"),"",C31/'B2. HTT Public Sector Assets'!$C$37) | G31: =IF(OR('B2. HTT Public Sector Assets'!$C$10=0,D31="[For completion]"),"",D31/'B2. HTT Public Sector Assets'!$C$10)
A32: SPS.1.2.2 | B32: Energy efficiency | C32: [For completion] | D32: [For completion] | F32: =IF(OR('B2. HTT Public Sector Assets'!$C$37=0,C32="[For completion]"),"",C32/'B2. HTT Public Sector Assets'!$C$37) | G32: =IF(OR('B2. HTT Public Sector Assets'!$C$10=0,D32="[For completion]"),"",D32/'B2. HTT Public Sector Assets'!$C$10)
A33: SPS.1.2.3 | B33: Pollution prevention and control | C33: [For completion] | D33: [For completion] | F33: =IF(OR('B2. HTT Public Sector Assets'!$C$37=0,C33="[For completion]"),"",C33/'B2. HTT Public Sector Assets'!$C$37) | G33: =IF(OR('B2. HTT Public Sector Assets'!$C$10=0,D33="[For completion]"),"",D33/'B2. HTT Public Sector Assets'!$C$10)
A34: SPS.1.2.4 | B34: Ecologically sustainable management of living natural resources and land use | C34: [For completion] | D34: [For completion] | F34: =IF(OR('B2. HTT Public Sector Assets'!$C$37=0,C34="[For completion]"),"",C34/'B2. HTT Public Sector Assets'!$C$37) | G34: =IF(OR('B2. HTT Public Sector Assets'!$C$10=0,D34="[For completion]"),"",D34/'B2. HTT Public Sector Assets'!$C$10)
A35: SPS.1.2.5 | B35: Conservation of terrestrial and marine biodiversity | C35: [For completion] | D35: [For completion] | F35: =IF(OR('B2. HTT Public Sector Assets'!$C$37=0,C35="[For completion]"),"",C35/'B2. HTT Public Sector Assets'!$C$37) | G35: =IF(OR('B2. HTT Public Sector Assets'!$C$10=0,D35="[For completion]"),"",D35/'B2. HTT Public Sector Assets'!$C$10)
A36: SPS.1.2.6 | B36: Clean transportation/mobility | C36: [For completion] | D36: [For completion] | F36: =IF(OR('B2. HTT Public Sector Assets'!$C$37=0,C36="[For completion]"),"",C36/'B2. HTT Public Sector Assets'!$C$37) | G36: =IF(OR('B2. HTT Public Sector Assets'!$C$10=0,D36="[For completion]"),"",D36/'B2. HTT Public Sector Assets'!$C$10)
A37: SPS.1.2.7 | B37: Sustainable (waste) water management | C37: [For completion] | D37: [For completion] | F37: =IF(OR('B2. HTT Public Sector Assets'!$C$37=0,C37="[For completion]"),"",C37/'B2. HTT Public Sector Assets'!$C$37) | G37: =IF(OR('B2. HTT Public Sector Assets'!$C$10=0,D37="[For completion]"),"",D37/'B2. HTT Public Sector Assets'!$C$10)
A38: SPS.1.2.8 | B38: Adaptation to climate change | C38: [For completion] | D38: [For completion] | F38: =IF(OR('B2. HTT Public Sector Assets'!$C$37=0,C38="[For completion]"),"",C38/'B2. HTT Public Sector Assets'!$C$37) | G38: =IF(OR('B2. HTT Public Sector Assets'!$C$10=0,D38="[For completion]"),"",D38/'B2. HTT Public Sector Assets'!$C$10)
A39: SPS.1.2.9 | B39: Environmentally efficient products and/or products, product technologies and processes suitable for the circular economy | C39: [For completion] | D39: [For completion] | F39: =IF(OR('B2. HTT Public Sector Assets'!$C$37=0,C39="[For completion]"),"",C39/'B2. HTT Public Sector Assets'!$C$37) | G39: =IF(OR('B2. HTT Public Sector Assets'!$C$10=0,D39="[For completion]"),"",D39/'B2. HTT Public Sector Assets'!$C$10)
A40: SPS.1.2.10 | B40: Financially viable basic infrastructure | C40: [For completion] | D40: [For completion] | F40: =IF(OR('B2. HTT Public Sector Assets'!$C$37=0,C40="[For completion]"),"",C40/'B2. HTT Public Sector Assets'!$C$37) | G40: =IF(OR('B2. HTT Public Sector Assets'!$C$10=0,D40="[For completion]"),"",D40/'B2. HTT Public Sector Assets'!$C$10)
A41: SPS.1.2.11 | B41: Access to basic social services | C41: [For completion] | D41: [For completion] | F41: =IF(OR('B2. HTT Public Sector Assets'!$C$37=0,C41="[For completion]"),"",C41/'B2. HTT Public Sector Assets'!$C$37) | G41: =IF(OR('B2. HTT Public Sector Assets'!$C$10=0,D41="[For completion]"),"",D41/'B2. HTT Public Sector Assets'!$C$10)
A42: SPS.1.2.12 | B42: Affordable housing | C42: [For completion] | D42: [For completion] | F42: =IF(OR('B2. HTT Public Sector Assets'!$C$37=0,C42="[For completion]"),"",C42/'B2. HTT Public Sector Assets'!$C$37) | G42: =IF(OR('B2. HTT Public Sector Assets'!$C$10=0,D42="[For completion]"),"",D42/'B2. HTT Public Sector Assets'!$C$10)
... A45: SPS.1.2.15 | B45: Socio-economic development and empowerment. | C45: [For completion] | D45: [For completion] | F45: =IF(OR('B2. HTT Public Sector Assets'!$C$37=0,C45="[For completion]"),"",C45/'B2. HTT Public Sector Assets'!$C$37) | G45: =IF(OR('B2. HTT Public Sector Assets'!$C$10=0,D45="[For completion]"),"",D45/'B2. HTT Public Sector Assets'!$C$10)
A46: SPS.1.2.16 | B46: Total sustainable Public Sector exposures | C46: =SUM(C31,C36,C40) -> 0 | D46: =SUM(D31,D36,D40) -> 0 | F46: =SUM(F31:F40) -> 0 | G46: =SUM(G31:G40) -> 0
B48: 2. Sustainable Public Sector Assets
...

Sheet G1. Crisis M Payment Holidays
A1: This addendum is optional
A2: G1. Crisis Mortgage Payment Holidays | F2: HTT 2025
B5: Reporting in Domestic Currency | C5: [Please insert currency] | E5: For further information concerning the nation-specific dispositions regarging the impact of the Covid 19 outbreak on cover pools, please refer to the: | G5: COVID-19: EMF-ECBC Response
B7: CONTENT OF Temporary Tab | E7: Optional further information at issuer/country level
B8: 1. Share of assets affected by payment holidays caused by COVID 19 | E8: [For completion]
B9: 2. Additional information on the cover pool section affected by payment holidays
E13: Can the COVID-19 related payment holiday loans remain part of the cover pool? | G13: [YES/NO] (cancel what is not relevant)
B15: 1. Share of cover assets affected at the time of reporting by payment holidays caused exclusively by COVID 19
B16: 1. Breakdown of payment holiday | C16: Nominal (mn) | D16: Number of loans | F16: % Nominal (mn) to total cover pool | G16: % No. of Loans to total cover pool
A17: COV.1.1.1 | B17: payment holiday granted | C17: [For completion] | D17: [For completion] | F17: =IF(OR('B1. HTT Mortgage Assets'!$C$15=0,C17="[For completion]"),"",C17/'B1. HTT Mortgage Assets'!$C$15) | G17: =IF(OR('B1. HTT Mortgage Assets'!$F$28=0,D17="[For completion]"),"",D17/'B1. HTT Mortgage Assets'!$F$28)
A18: OCOV.1.1.2
A19: OCOV.1.1.3
B20: 2. Additional information on the cover pool section affected by payment holidays
B21: 1. types of granted payment holiday (original duration) | C21: 1 month | D21: 2 months | E21: 3 months | F21: 4 to 6 months | G21: over 6 months | H21: total
B22: in % nominal (mn) of affected notional amount to total cover pool
A23: COV.2.1.1 | B23: principal & interest deferred | C23: [For completion] | D23: [For completion] | E23: [For completion] | F23: [For completion] | G23: [For completion] | H23: =SUM(C23:G23) -> 0
A24: COV.2.1.2 | B24: principal deferred | C24: [For completion] | D24: [For completion] | E24: [For completion] | F24: [For completion] | G24: [For completion] | H24: =SUM(C24:G24) -> 0
A25: COV.2.1.3 | B25: other | C25: [For completion] | D25: [For completion] | E25: [For completion] | F25: [For completion] | G25: [For completion] | H25: =SUM(C25:G25) -> 0
A26: COV.2.1.4 | B26: Total payment holiday | C26: =SUM(C23:C25)+SUM(C27:C32) -> 0 | D26: =SUM(D23:D25)+SUM(D27:D32) -> 0 | E26: =SUM(E23:E25)+SUM(E27:E32) -> 0 | F26: =SUM(F23:F25)+SUM(F27:F32) -> 0 | G26: =SUM(G23:G25)+SUM(G27:G32) -> 0 | H26: =SUM(H23:H25) -> 0
A27: OCOV.2.1.5 | B27: [please insert here mortgages with extended moratoria] | H27: =IF(SUM(C27:G27)="","",SUM(C27:G27)) -> 0
A28: OCOV.2.1.6 | B28: [please insert here mortgages with extended moratoria] | H28: =IF(SUM(C28:G28)="","",SUM(C28:G28)) -> 0
A29: OCOV.2.1.7 | B29: [please insert here mortgages with extended moratoria] | H29: =IF(SUM(C29:G29)="","",SUM(C29:G29)) -> 0
A30: OCOV.2.1.8 | B30: [please insert here mortgages with extended moratoria] | H30: =IF(SUM(C30:G30)="","",SUM(C30:G30)) -> 0
A31: OCOV.2.1.9 | B31: [please insert here mortgages with extended moratoria]
A32: OCOV.2.1.10 | B32: [please insert here mortgages with extended moratoria]

Sheet E.g. General

Sheet E.g. Other
